BEGIN:VCALENDAR
VERSION:2.0
PRODID:-//Speedway-Tilburg - ECPv6.15.20//NONSGML v1.0//EN
CALSCALE:GREGORIAN
METHOD:PUBLISH
X-WR-CALNAME:Speedway-Tilburg
X-ORIGINAL-URL:https://speedway-tilburg.nl
X-WR-CALDESC:Evenementen voor Speedway-Tilburg
REFRESH-INTERVAL;VALUE=DURATION:PT1H
X-Robots-Tag:noindex
X-PUBLISHED-TTL:PT1H
BEGIN:VTIMEZONE
TZID:Europe/Paris
BEGIN:DAYLIGHT
TZOFFSETFROM:+0100
TZOFFSETTO:+0200
TZNAME:CEST
DTSTART:20240331T010000
END:DAYLIGHT
BEGIN:STANDARD
TZOFFSETFROM:+0200
TZOFFSETTO:+0100
TZNAME:CET
DTSTART:20241027T010000
END:STANDARD
BEGIN:DAYLIGHT
TZOFFSETFROM:+0100
TZOFFSETTO:+0200
TZNAME:CEST
DTSTART:20250330T010000
END:DAYLIGHT
BEGIN:STANDARD
TZOFFSETFROM:+0200
TZOFFSETTO:+0100
TZNAME:CET
DTSTART:20251026T010000
END:STANDARD
BEGIN:DAYLIGHT
TZOFFSETFROM:+0100
TZOFFSETTO:+0200
TZNAME:CEST
DTSTART:20260329T010000
END:DAYLIGHT
BEGIN:STANDARD
TZOFFSETFROM:+0200
TZOFFSETTO:+0100
TZNAME:CET
DTSTART:20261025T010000
END:STANDARD
END:VTIMEZONE
BEGIN:VEVENT
DTSTART;TZID=Europe/Paris:20250226T200000
DTEND;TZID=Europe/Paris:20250226T223000
DTSTAMP:20260425T174054
CREATED:20250219T134055Z
LAST-MODIFIED:20250222T075700Z
UID:402-1740600000-1740609000@speedway-tilburg.nl
SUMMARY:Ledenvergadering
DESCRIPTION:Voor alle Speedway Tilburg leden.
URL:https://speedway-tilburg.nl/evenement/ledenvergadering/
LOCATION:Kerkenbosplaats 1\, 5043 RX Tilburg\, Wijkcentrum Heyhoef\, Tilburg\, 5043 RX\, Netherlands
CATEGORIES:Ledenvergadering
ORGANIZER;CN="Bestuur Speedway Tilburg":MAILTO:info@speedway-tilburg.nl
END:VEVENT
END:VCALENDAR