BEGIN:VCALENDAR
VERSION:2.0
PRODID:-//Speedway-Tilburg - ECPv6.15.20//NONSGML v1.0//EN
CALSCALE:GREGORIAN
METHOD:PUBLISH
X-ORIGINAL-URL:https://speedway-tilburg.nl
X-WR-CALDESC:Evenementen voor Speedway-Tilburg
REFRESH-INTERVAL;VALUE=DURATION:PT1H
X-Robots-Tag:noindex
X-PUBLISHED-TTL:PT1H
BEGIN:VTIMEZONE
TZID:Europe/Paris
BEGIN:DAYLIGHT
TZOFFSETFROM:+0100
TZOFFSETTO:+0200
TZNAME:CEST
DTSTART:20250330T010000
END:DAYLIGHT
BEGIN:STANDARD
TZOFFSETFROM:+0200
TZOFFSETTO:+0100
TZNAME:CET
DTSTART:20251026T010000
END:STANDARD
BEGIN:DAYLIGHT
TZOFFSETFROM:+0100
TZOFFSETTO:+0200
TZNAME:CEST
DTSTART:20260329T010000
END:DAYLIGHT
BEGIN:STANDARD
TZOFFSETFROM:+0200
TZOFFSETTO:+0100
TZNAME:CET
DTSTART:20261025T010000
END:STANDARD
BEGIN:DAYLIGHT
TZOFFSETFROM:+0100
TZOFFSETTO:+0200
TZNAME:CEST
DTSTART:20270328T010000
END:DAYLIGHT
BEGIN:STANDARD
TZOFFSETFROM:+0200
TZOFFSETTO:+0100
TZNAME:CET
DTSTART:20271031T010000
END:STANDARD
END:VTIMEZONE
BEGIN:VEVENT
DTSTART;TZID=Europe/Paris:20260926T090000
DTEND;TZID=Europe/Paris:20260926T130000
DTSTAMP:20260425T143019
CREATED:20260211T071928Z
LAST-MODIFIED:20260211T071929Z
UID:1254-1790413200-1790427600@speedway-tilburg.nl
SUMMARY:BaanOnderhoud
DESCRIPTION:Rijden is tijdens het onderhoud niet mogelijk. Na 13:00 zijn alle rijders weer van harte welkom.Kom een keertje meehelpen!. Voor koffie en koek wordt gezorgd. 
URL:https://speedway-tilburg.nl/evenement/baanonderhoud-10/
LOCATION:Speedway Tilburg\, Brummenpad\, Tilburg\, Noord Brabant\, Netherlands
CATEGORIES:Baanonderhoud
ATTACH;FMTTYPE=image/jpeg:https://speedway-tilburg.nl/wp-content/uploads/2026/02/Wegwerkzaamheden-waarschuwing-Custom.jpg
ORGANIZER;CN="OnderhoudsCommissie":MAILTO:onderhoudscommissie@speedway-tilburg.nl
END:VEVENT
BEGIN:VEVENT
DTSTART;TZID=Europe/Paris:20261010T090000
DTEND;TZID=Europe/Paris:20261010T130000
DTSTAMP:20260425T143019
CREATED:20260211T072342Z
LAST-MODIFIED:20260211T072344Z
UID:1258-1791622800-1791637200@speedway-tilburg.nl
SUMMARY:BaanOnderhoud
DESCRIPTION:Rijden is tijdens het onderhoud niet mogelijk. Na 13:00 zijn alle rijders weer van harte welkom.Kom een keertje meehelpen!. Voor koffie en koek wordt gezorgd.  \n\n\n\nDeze onderhoudsdag hangt af van de staat van de baan en het groen. Indien 3 oktober ook al onderhoud heeft plaats gevonden\, is deze dag wellicht overbodig. E.e.a. zal via de onderhouds-app gecommuniceerd worden.
URL:https://speedway-tilburg.nl/evenement/baanonderhoud-11/
LOCATION:Speedway Tilburg\, Brummenpad\, Tilburg\, Noord Brabant\, Netherlands
CATEGORIES:Baanonderhoud
ATTACH;FMTTYPE=image/jpeg:https://speedway-tilburg.nl/wp-content/uploads/2026/02/Wegwerkzaamheden-waarschuwing-Custom.jpg
ORGANIZER;CN="OnderhoudsCommissie":MAILTO:onderhoudscommissie@speedway-tilburg.nl
END:VEVENT
BEGIN:VEVENT
DTSTART;TZID=Europe/Paris:20261024T090000
DTEND;TZID=Europe/Paris:20261024T130000
DTSTAMP:20260425T143019
CREATED:20260211T232101Z
LAST-MODIFIED:20260211T232102Z
UID:1312-1792832400-1792846800@speedway-tilburg.nl
SUMMARY:BaanOnderhoud
DESCRIPTION:Rijden is tijdens het onderhoud niet mogelijk. Na 13:00 zijn alle rijders weer van harte welkom.Kom een keertje meehelpen!. Voor koffie en koek wordt gezorgd. 
URL:https://speedway-tilburg.nl/evenement/baanonderhoud-13/
LOCATION:Speedway Tilburg\, Brummenpad\, Tilburg\, Noord Brabant\, Netherlands
CATEGORIES:Baanonderhoud
ATTACH;FMTTYPE=image/jpeg:https://speedway-tilburg.nl/wp-content/uploads/2026/02/Wegwerkzaamheden-waarschuwing-Custom.jpg
ORGANIZER;CN="OnderhoudsCommissie":MAILTO:onderhoudscommissie@speedway-tilburg.nl
END:VEVENT
END:VCALENDAR