BEGIN:VCALENDAR
VERSION:2.0
PRODID:-//Speedway-Tilburg - ECPv6.15.20//NONSGML v1.0//EN
CALSCALE:GREGORIAN
METHOD:PUBLISH
X-WR-CALNAME:Speedway-Tilburg
X-ORIGINAL-URL:https://speedway-tilburg.nl
X-WR-CALDESC:Evenementen voor Speedway-Tilburg
REFRESH-INTERVAL;VALUE=DURATION:PT1H
X-Robots-Tag:noindex
X-PUBLISHED-TTL:PT1H
BEGIN:VTIMEZONE
TZID:Europe/Paris
BEGIN:DAYLIGHT
TZOFFSETFROM:+0100
TZOFFSETTO:+0200
TZNAME:CEST
DTSTART:20240331T010000
END:DAYLIGHT
BEGIN:STANDARD
TZOFFSETFROM:+0200
TZOFFSETTO:+0100
TZNAME:CET
DTSTART:20241027T010000
END:STANDARD
BEGIN:DAYLIGHT
TZOFFSETFROM:+0100
TZOFFSETTO:+0200
TZNAME:CEST
DTSTART:20250330T010000
END:DAYLIGHT
BEGIN:STANDARD
TZOFFSETFROM:+0200
TZOFFSETTO:+0100
TZNAME:CET
DTSTART:20251026T010000
END:STANDARD
BEGIN:DAYLIGHT
TZOFFSETFROM:+0100
TZOFFSETTO:+0200
TZNAME:CEST
DTSTART:20260329T010000
END:DAYLIGHT
BEGIN:STANDARD
TZOFFSETFROM:+0200
TZOFFSETTO:+0100
TZNAME:CET
DTSTART:20261025T010000
END:STANDARD
END:VTIMEZONE
BEGIN:VEVENT
DTSTART;TZID=Europe/Paris:20251018T090000
DTEND;TZID=Europe/Paris:20251018T130000
DTSTAMP:20260424T235424
CREATED:20250226T092502Z
LAST-MODIFIED:20250226T092550Z
UID:695-1760778000-1760792400@speedway-tilburg.nl
SUMMARY:Baan onderhoud
DESCRIPTION:Baan Onderhoud.Rijden is tijdens het onderhoud niet mogelijk. Na 13:00 zijn de rijders weer van harte welkom.Nog mooier: kom een keertje meehelpen!. Voor koffie en koek wordt gezorgd. 🙂 \n\n\n\nDit is de laatste onderhoudsdag van dit jaar… alle vrijwilligers: Ontzettend bedankt!!
URL:https://speedway-tilburg.nl/evenement/baan-onderhoud-13/
LOCATION:Speedway Tilburg\, Brummenpad\, Tilburg\, Noord Brabant\, Netherlands
CATEGORIES:Baanonderhoud
END:VEVENT
END:VCALENDAR